BEGIN:VCALENDAR
VERSION:2.0
PRODID:https://www.siebenbuerger.de/zeitung/termine/
X-WR-CALNAME:Siebenbuerger.de Termine
X-WR-CALDESC:Termine und Veranstaltungen von Siebenbuerger.de
X-WR-TIMEZONE:Europe/Berlin
BEGIN:VTIMEZONE
TZID:Europe/Berlin
X-LIC-LOCATION:Europe/Berlin
BEGIN:DAYLIGHT
TZOFFSETFROM:+0100
TZOFFSETTO:+0200
TZNAME:CEST
DTSTART:19700329T020000
RRULE:FREQ=YEARLY;BYDAY=-1SU;BYMONTH=3
END:DAYLIGHT
BEGIN:STANDARD
TZOFFSETFROM:+0200
TZOFFSETTO:+0100
TZNAME:CET
DTSTART:19701025T030000
RRULE:FREQ=YEARLY;BYDAY=-1SU;BYMONTH=10
END:STANDARD
END:VTIMEZONE
BEGIN:VEVENT
UID:24644
LOCATION:Siebenbürgisches Museum, Gundelsheim
GEO:49.286977;9.156603
CLASS:PUBLIC
DTSTAMP:20260421T115312Z
DTSTART;TZID=Europe/Berlin:20260328T000000
DTEND;TZID=Europe/Berlin:20260628T235900
SUMMARY:Ausstellung Gertrud Hornung in Gundelsheim
DESCRIPTION:Noch bis zum 28. Juni läuft im Siebenbürgischen Museum, Schloss Horneck 1, 74831 Gundelsheim a.N., die Sonderausstellung "‚Aber du, Herr, machst mich frei‘. Die Bildwelten der Künstlerin Gertrud Hornung" mit Zeichnungen, Druckgrafiken und Aquarellen der aus Schäßburg stammenden, heute nahezu vergessenen Künstlerin Gertrud Hornung (1937-1977). Die Ausstellung gibt einen Überblick über ihr künstlerisches Schaffen in den Jahren 1963-1977, das vor allem geprägt war von spiritueller Sinnsuche, immer wieder unterbrochen durch kontemplative Aufenthalte in einem Benediktinerinnenkloster. Die Werke geben auf emotionale Weise Einblick in eine hoch sensible Künstlerinnenseele und regen zur Reflexion über eigene religiöse wie existenzielle Fragen an. Wiederentdeckt wurde sie von Helga Lutsch, deren Kunstlehrerin Gertrud Hornung 1960-62 in Agnetheln war. Sie hat das Leben der Künstlerin rekonstruiert und ein Werkverzeichnis zusammengetragen, das anlässlich der Retrospektive in Zusammenarbeit mit dem Siebenbürgischen Museum veröffentlicht wird.\nVeranstalter: \nSchlagwörter: Ausstellung,Aquarelle
URL:https://www.siebenbuerger.de/zeitung/termine/24644-ausstellung-gertrud-hornung-in.html
END:VEVENT
END:VCALENDAR