BEGIN:VCALENDAR
VERSION:2.0
PRODID:https://www.siebenbuerger.de/zeitung/termine/
X-WR-CALNAME:Siebenbuerger.de Termine
X-WR-CALDESC:Termine und Veranstaltungen von Siebenbuerger.de
X-WR-TIMEZONE:Europe/Berlin
BEGIN:VTIMEZONE
TZID:Europe/Berlin
X-LIC-LOCATION:Europe/Berlin
BEGIN:DAYLIGHT
TZOFFSETFROM:+0100
TZOFFSETTO:+0200
TZNAME:CEST
DTSTART:19700329T020000
RRULE:FREQ=YEARLY;BYDAY=-1SU;BYMONTH=3
END:DAYLIGHT
BEGIN:STANDARD
TZOFFSETFROM:+0200
TZOFFSETTO:+0100
TZNAME:CET
DTSTART:19701025T030000
RRULE:FREQ=YEARLY;BYDAY=-1SU;BYMONTH=10
END:STANDARD
END:VTIMEZONE
BEGIN:VEVENT
UID:24650
LOCATION:Kulturzentrum, Schulstraße 7, Gundremmingen
GEO:48.500174;10.405353
CLASS:PUBLIC
DTSTAMP:20260420T121127Z
DTSTART;TZID=Europe/Berlin:20260620T103000
DTEND;TZID=Europe/Berlin:20260620T235900
SUMMARY:Kreisgruppe Günzburg: Kronenfest
DESCRIPTION:Samstag, 20. Juni, 10.30 Uhr: Kronenfest im Kulturzentrum, Schulstraße 7, in Gundremmingen\nVeranstalter: Kreisgruppe Günzburg\nSchlagwörter: Kronenfest,Brauchtumsveranstaltung
URL:https://www.siebenbuerger.de/zeitung/termine/24650-kreisgruppe-guenzburg-kronenfest.html
END:VEVENT
END:VCALENDAR